Package: ChromSCape Version: 1.16.0 Command: /Library/Frameworks/R.framework/Resources/bin/R CMD build --keep-empty-dirs --no-resave-data ChromSCape StartedAt: 2025-01-27 20:41:33 -0500 (Mon, 27 Jan 2025) EndedAt: 2025-01-27 20:42:57 -0500 (Mon, 27 Jan 2025) EllapsedTime: 83.5 seconds RetCode: 0 Status: OK PackageFile: ChromSCape_1.16.0.tar.gz PackageFileSize: 5.303 MiB