Package: ChromHeatMap Version: 1.60.0 Command: rm -rf ChromHeatMap.buildbin-libdir && mkdir ChromHeatMap.buildbin-libdir && F:\biocbuild\bbs-3.20-bioc\R\bin\R.exe CMD INSTALL --build --library=ChromHeatMap.buildbin-libdir ChromHeatMap_1.60.0.tar.gz StartedAt: 2025-04-01 07:53:57 -0400 (Tue, 01 Apr 2025) EndedAt: 2025-04-01 07:55:01 -0400 (Tue, 01 Apr 2025) EllapsedTime: 63.8 seconds RetCode: 0 Status: OK PackageFile: ChromHeatMap_1.60.0.zip PackageFileSize: 574.7 KiB