Package: ChromHeatMap Version: 1.60.0 Command: /home/biocbuild/R/R/bin/R CMD build --keep-empty-dirs --no-resave-data ChromHeatMap StartedAt: 2024-11-19 23:41:22 -0000 (Tue, 19 Nov 2024) EndedAt: 2024-11-19 23:42:26 -0000 (Tue, 19 Nov 2024) EllapsedTime: 64.1 seconds RetCode: 0 Status: OK PackageFile: ChromHeatMap_1.60.0.tar.gz PackageFileSize: 311.3 KiB