Package: Chicago Version: 1.34.0 Command: /home/biocbuild/R/R/bin/R CMD build --keep-empty-dirs --no-resave-data Chicago StartedAt: 2025-01-27 23:13:32 -0000 (Mon, 27 Jan 2025) EndedAt: 2025-01-27 23:15:21 -0000 (Mon, 27 Jan 2025) EllapsedTime: 109.0 seconds RetCode: 0 Status: OK PackageFile: Chicago_1.34.0.tar.gz PackageFileSize: 946.6 KiB