Package: Chicago Version: 1.34.0 Command: /Library/Frameworks/R.framework/Resources/bin/R CMD INSTALL Chicago StartedAt: 2025-02-03 16:02:55 -0500 (Mon, 03 Feb 2025) EndedAt: 2025-02-03 16:03:11 -0500 (Mon, 03 Feb 2025) EllapsedTime: 16.1 seconds RetCode: 0 Status: OK