Package: Chicago Version: 1.34.0 Command: /Library/Frameworks/R.framework/Resources/bin/R CMD check --install=check:Chicago.install-out.txt --library=/Library/Frameworks/R.framework/Resources/library --no-vignettes --timings Chicago_1.34.0.tar.gz StartedAt: 2025-02-04 01:06:50 -0500 (Tue, 04 Feb 2025) EndedAt: 2025-02-04 01:10:18 -0500 (Tue, 04 Feb 2025) EllapsedTime: 207.9 seconds RetCode: 0 Status: OK CheckDir: Chicago.Rcheck Warnings: 0