Package: Chicago Version: 1.34.0 Command: /Library/Frameworks/R.framework/Resources/bin/R CMD build --keep-empty-dirs --no-resave-data Chicago StartedAt: 2025-03-31 17:36:16 -0400 (Mon, 31 Mar 2025) EndedAt: 2025-03-31 17:39:08 -0400 (Mon, 31 Mar 2025) EllapsedTime: 171.6 seconds RetCode: 0 Status: OK PackageFile: Chicago_1.34.0.tar.gz PackageFileSize: 1.209 MiB