Package: Chicago Version: 1.34.0 Command: rm -rf Chicago.buildbin-libdir && mkdir Chicago.buildbin-libdir && /Users/biocbuild/BBS/utils/build-universal.sh Chicago_1.34.0.tar.gz /Library/Frameworks/R.framework/Resources/bin/R Chicago.buildbin-libdir StartedAt: 2025-02-04 12:38:19 -0500 (Tue, 04 Feb 2025) EndedAt: 2025-02-04 12:38:38 -0500 (Tue, 04 Feb 2025) EllapsedTime: 19.7 seconds RetCode: 0 Status: OK PackageFile: Chicago_1.34.0.tgz PackageFileSize: 1.458 MiB