Package: ChemmineR Version: 3.58.0 Command: /home/biocbuild/R/R/bin/R CMD INSTALL ChemmineR StartedAt: 2025-01-27 21:57:25 -0000 (Mon, 27 Jan 2025) EndedAt: 2025-01-27 21:58:02 -0000 (Mon, 27 Jan 2025) EllapsedTime: 36.3 seconds RetCode: 0 Status: OK