Package: ChemmineR Version: 3.58.0 Command: F:\biocbuild\bbs-3.20-bioc\R\bin\R.exe CMD INSTALL ChemmineR StartedAt: 2025-01-27 16:53:51 -0500 (Mon, 27 Jan 2025) EndedAt: 2025-01-27 16:55:43 -0500 (Mon, 27 Jan 2025) EllapsedTime: 111.7 seconds RetCode: 0 Status: OK