Package: ChemmineR Version: 3.58.0 Command: rm -rf ChemmineR.buildbin-libdir && mkdir ChemmineR.buildbin-libdir && F:\biocbuild\bbs-3.20-bioc\R\bin\R.exe CMD INSTALL --build --library=ChemmineR.buildbin-libdir ChemmineR_3.58.0.tar.gz StartedAt: 2025-01-28 07:50:25 -0500 (Tue, 28 Jan 2025) EndedAt: 2025-01-28 07:52:11 -0500 (Tue, 28 Jan 2025) EllapsedTime: 105.9 seconds RetCode: 0 Status: OK PackageFile: ChemmineR_3.58.0.zip PackageFileSize: 2.175 MiB