Package: ChemmineR Version: 3.58.0 Command: /home/biocbuild/bbs-3.20-bioc/R/bin/R CMD INSTALL ChemmineR StartedAt: 2025-01-27 16:48:26 -0500 (Mon, 27 Jan 2025) EndedAt: 2025-01-27 16:48:53 -0500 (Mon, 27 Jan 2025) EllapsedTime: 27.4 seconds RetCode: 0 Status: OK