Package: ChemmineR Version: 3.58.0 Command: rm -rf ChemmineR.buildbin-libdir && mkdir ChemmineR.buildbin-libdir && /Users/biocbuild/BBS/utils/build-universal.sh ChemmineR_3.58.0.tar.gz /Library/Frameworks/R.framework/Resources/bin/R ChemmineR.buildbin-libdir StartedAt: 2025-01-28 12:48:14 -0500 (Tue, 28 Jan 2025) EndedAt: 2025-01-28 12:49:22 -0500 (Tue, 28 Jan 2025) EllapsedTime: 68.0 seconds RetCode: 0 Status: OK PackageFile: ChemmineR_3.58.0.tgz PackageFileSize: 2.609 MiB