Package: ChemmineR Version: 3.58.0 Command: /Library/Frameworks/R.framework/Resources/bin/R CMD check --install=check:ChemmineR.install-out.txt --library=/Library/Frameworks/R.framework/Resources/library --no-vignettes --timings ChemmineR_3.58.0.tar.gz StartedAt: 2024-11-19 20:27:50 -0500 (Tue, 19 Nov 2024) EndedAt: 2024-11-19 20:33:10 -0500 (Tue, 19 Nov 2024) EllapsedTime: 319.5 seconds RetCode: 0 Status: WARNINGS CheckDir: ChemmineR.Rcheck Warnings: 1