Package: ChemmineR Version: 3.58.0 Command: /home/biocbuild/R/R/bin/R CMD INSTALL ChemmineR StartedAt: 2024-11-19 21:24:31 -0000 (Tue, 19 Nov 2024) EndedAt: 2024-11-19 21:25:11 -0000 (Tue, 19 Nov 2024) EllapsedTime: 39.8 seconds RetCode: 0 Status: OK