Package: ChemmineR Version: 3.58.0 Command: /Library/Frameworks/R.framework/Resources/bin/R CMD INSTALL ChemmineR StartedAt: 2025-03-31 17:53:57 -0400 (Mon, 31 Mar 2025) EndedAt: 2025-03-31 17:54:25 -0400 (Mon, 31 Mar 2025) EllapsedTime: 28.2 seconds RetCode: 0 Status: OK