Package: ChemmineOB Version: 1.44.0 Command: /home/biocbuild/R/R/bin/R CMD INSTALL ChemmineOB StartedAt: 2025-01-27 21:04:16 -0000 (Mon, 27 Jan 2025) EndedAt: 2025-01-27 21:04:54 -0000 (Mon, 27 Jan 2025) EllapsedTime: 37.9 seconds RetCode: 1 Status: ERROR