Package: ChemmineOB Version: 1.44.0 Command: /home/biocbuild/R/R/bin/R CMD build --keep-empty-dirs --no-resave-data ChemmineOB StartedAt: 2025-02-03 22:32:44 -0000 (Mon, 03 Feb 2025) EndedAt: 2025-02-03 22:32:55 -0000 (Mon, 03 Feb 2025) EllapsedTime: 11.0 seconds RetCode: 1 Status: ERROR PackageFile: None PackageFileSize: NA