Package: ChemmineOB Version: 1.44.0 Command: F:\biocbuild\bbs-3.20-bioc\R\bin\R.exe CMD check --no-multiarch --install=check:ChemmineOB.install-out.txt --library=F:\biocbuild\bbs-3.20-bioc\R\library --no-vignettes --timings ChemmineOB_1.44.0.tar.gz StartedAt: 2025-01-27 23:56:57 -0500 (Mon, 27 Jan 2025) EndedAt: 2025-01-28 00:00:27 -0500 (Tue, 28 Jan 2025) EllapsedTime: 210.4 seconds RetCode: 0 Status: WARNINGS CheckDir: ChemmineOB.Rcheck Warnings: 3