Package: ChemmineOB Version: 1.44.0 Command: /Library/Frameworks/R.framework/Resources/bin/R CMD INSTALL ChemmineOB StartedAt: 2025-01-27 15:07:43 -0500 (Mon, 27 Jan 2025) EndedAt: 2025-01-27 15:08:02 -0500 (Mon, 27 Jan 2025) EllapsedTime: 19.5 seconds RetCode: 1 Status: ERROR