Package: ChemmineOB Version: 1.44.0 Command: /Library/Frameworks/R.framework/Resources/bin/R CMD build --keep-empty-dirs --no-resave-data ChemmineOB StartedAt: 2025-03-31 20:25:15 -0400 (Mon, 31 Mar 2025) EndedAt: 2025-03-31 20:25:23 -0400 (Mon, 31 Mar 2025) EllapsedTime: 8.1 seconds RetCode: 1 Status: ERROR PackageFile: None PackageFileSize: NA