Package: ChIPseqR Version: 1.60.0 Command: F:\biocbuild\bbs-3.20-bioc\R\bin\R.exe CMD INSTALL ChIPseqR StartedAt: 2025-01-27 16:33:29 -0500 (Mon, 27 Jan 2025) EndedAt: 2025-01-27 16:34:40 -0500 (Mon, 27 Jan 2025) EllapsedTime: 70.4 seconds RetCode: 0 Status: OK