Package: ChIPseqR Version: 1.60.0 Command: rm -rf ChIPseqR.buildbin-libdir && mkdir ChIPseqR.buildbin-libdir && /Users/biocbuild/BBS/utils/build-universal.sh ChIPseqR_1.60.0.tar.gz /Library/Frameworks/R.framework/Resources/bin/R ChIPseqR.buildbin-libdir StartedAt: 2025-01-28 12:48:59 -0500 (Tue, 28 Jan 2025) EndedAt: 2025-01-28 12:50:21 -0500 (Tue, 28 Jan 2025) EllapsedTime: 81.7 seconds RetCode: 0 Status: OK PackageFile: ChIPseqR_1.60.0.tgz PackageFileSize: 1.49 MiB