Package: ChIPseqR Version: 1.60.0 Command: /home/biocbuild/R/R/bin/R CMD build --keep-empty-dirs --no-resave-data ChIPseqR StartedAt: 2024-11-19 23:40:18 -0000 (Tue, 19 Nov 2024) EndedAt: 2024-11-19 23:42:06 -0000 (Tue, 19 Nov 2024) EllapsedTime: 108.1 seconds RetCode: 0 Status: OK PackageFile: ChIPseqR_1.60.0.tar.gz PackageFileSize: 721.1 KiB