Package: ChIPseqR Version: 1.60.0 Command: /Library/Frameworks/R.framework/Resources/bin/R CMD INSTALL ChIPseqR StartedAt: 2025-01-27 17:05:17 -0500 (Mon, 27 Jan 2025) EndedAt: 2025-01-27 17:05:59 -0500 (Mon, 27 Jan 2025) EllapsedTime: 42.1 seconds RetCode: 0 Status: OK