Package: ChIPseqR Version: 1.60.0 Command: /Library/Frameworks/R.framework/Resources/bin/R CMD build --keep-empty-dirs --no-resave-data ChIPseqR StartedAt: 2025-01-27 20:36:39 -0500 (Mon, 27 Jan 2025) EndedAt: 2025-01-27 20:38:12 -0500 (Mon, 27 Jan 2025) EllapsedTime: 93.7 seconds RetCode: 0 Status: OK PackageFile: ChIPseqR_1.60.0.tar.gz PackageFileSize: 729.8 KiB