Package: ChIPseeker Version: 1.42.0 Command: /home/biocbuild/R/R/bin/R CMD check --install=check:ChIPseeker.install-out.txt --library=/home/biocbuild/R/R/site-library --no-vignettes --timings ChIPseeker_1.42.0.tar.gz StartedAt: 2025-01-28 05:42:55 -0000 (Tue, 28 Jan 2025) EndedAt: 2025-01-28 05:51:17 -0000 (Tue, 28 Jan 2025) EllapsedTime: 502.3 seconds RetCode: 0 Status: OK CheckDir: ChIPseeker.Rcheck Warnings: 0