Package: ChIPpeakAnno Version: 3.40.0 Command: F:\biocbuild\bbs-3.20-bioc\R\bin\R.exe CMD check --no-multiarch --install=check:ChIPpeakAnno.install-out.txt --library=F:\biocbuild\bbs-3.20-bioc\R\library --no-vignettes --timings ChIPpeakAnno_3.40.0.tar.gz StartedAt: 2025-02-04 00:13:01 -0500 (Tue, 04 Feb 2025) EndedAt: 2025-02-04 00:27:26 -0500 (Tue, 04 Feb 2025) EllapsedTime: 864.8 seconds RetCode: 0 Status: OK CheckDir: ChIPpeakAnno.Rcheck Warnings: 0