Package: ChIPpeakAnno Version: 3.40.0 Command: /home/biocbuild/bbs-3.20-bioc/R/bin/R CMD INSTALL ChIPpeakAnno StartedAt: 2025-01-27 16:39:58 -0500 (Mon, 27 Jan 2025) EndedAt: 2025-01-27 16:42:04 -0500 (Mon, 27 Jan 2025) EllapsedTime: 125.4 seconds RetCode: 0 Status: OK