Package: ChIPanalyser Version: 1.28.0 Command: /home/biocbuild/R/R/bin/R CMD INSTALL ChIPanalyser StartedAt: 2025-02-03 20:41:46 -0000 (Mon, 03 Feb 2025) EndedAt: 2025-02-03 20:42:34 -0000 (Mon, 03 Feb 2025) EllapsedTime: 47.3 seconds RetCode: 0 Status: OK