Package: ChIPanalyser Version: 1.28.0 Command: /home/biocbuild/R/R/bin/R CMD check --install=check:ChIPanalyser.install-out.txt --library=/home/biocbuild/R/R/site-library --no-vignettes --timings ChIPanalyser_1.28.0.tar.gz StartedAt: 2025-02-04 05:33:39 -0000 (Tue, 04 Feb 2025) EndedAt: 2025-02-04 05:39:58 -0000 (Tue, 04 Feb 2025) EllapsedTime: 379.3 seconds RetCode: 0 Status: OK CheckDir: ChIPanalyser.Rcheck Warnings: 0