Package: ChIPanalyser Version: 1.28.0 Command: /home/biocbuild/R/R/bin/R CMD build --keep-empty-dirs --no-resave-data ChIPanalyser StartedAt: 2025-02-03 22:33:24 -0000 (Mon, 03 Feb 2025) EndedAt: 2025-02-03 22:52:49 -0000 (Mon, 03 Feb 2025) EllapsedTime: 1165.1 seconds RetCode: 0 Status: OK PackageFile: ChIPanalyser_1.28.0.tar.gz PackageFileSize: 1.176 MiB