Package: ChIPanalyser Version: 1.28.0 Command: /Library/Frameworks/R.framework/Resources/bin/R CMD INSTALL ChIPanalyser StartedAt: 2025-01-27 15:41:11 -0500 (Mon, 27 Jan 2025) EndedAt: 2025-01-27 15:42:31 -0500 (Mon, 27 Jan 2025) EllapsedTime: 80.3 seconds RetCode: 0 Status: OK