Package: ChIPanalyser Version: 1.28.0 Command: /Library/Frameworks/R.framework/Resources/bin/R CMD build --keep-empty-dirs --no-resave-data ChIPanalyser StartedAt: 2025-01-27 17:47:23 -0500 (Mon, 27 Jan 2025) EndedAt: 2025-01-27 18:15:54 -0500 (Mon, 27 Jan 2025) EllapsedTime: 1710.2 seconds RetCode: 0 Status: OK PackageFile: ChIPanalyser_1.28.0.tar.gz PackageFileSize: 1.189 MiB