Package: ChIPQC Version: 1.42.0 Command: /home/biocbuild/bbs-3.20-bioc/R/bin/R CMD check --install=check:ChIPQC.install-out.txt --library=/home/biocbuild/bbs-3.20-bioc/R/site-library --timings ChIPQC_1.42.0.tar.gz StartedAt: 2025-01-27 21:39:59 -0500 (Mon, 27 Jan 2025) EndedAt: 2025-01-27 21:46:58 -0500 (Mon, 27 Jan 2025) EllapsedTime: 419.4 seconds RetCode: 0 Status: OK CheckDir: ChIPQC.Rcheck Warnings: 0