Package: ChIPQC Version: 1.42.0 Command: rm -rf ChIPQC.buildbin-libdir && mkdir ChIPQC.buildbin-libdir && /Users/biocbuild/BBS/utils/build-universal.sh ChIPQC_1.42.0.tar.gz /Library/Frameworks/R.framework/Resources/bin/R ChIPQC.buildbin-libdir StartedAt: 2025-01-28 12:48:41 -0500 (Tue, 28 Jan 2025) EndedAt: 2025-01-28 12:50:44 -0500 (Tue, 28 Jan 2025) EllapsedTime: 123.3 seconds RetCode: 0 Status: OK PackageFile: ChIPQC_1.42.0.tgz PackageFileSize: 2.084 MiB