Package: ChIPQC Version: 1.42.0 Command: /home/biocbuild/R/R/bin/R CMD INSTALL ChIPQC StartedAt: 2024-11-19 21:03:23 -0000 (Tue, 19 Nov 2024) EndedAt: 2024-11-19 21:04:46 -0000 (Tue, 19 Nov 2024) EllapsedTime: 82.8 seconds RetCode: 0 Status: OK