Package: ChIPQC Version: 1.42.0 Command: /Library/Frameworks/R.framework/Resources/bin/R CMD INSTALL ChIPQC StartedAt: 2025-01-27 16:59:36 -0500 (Mon, 27 Jan 2025) EndedAt: 2025-01-27 17:00:41 -0500 (Mon, 27 Jan 2025) EllapsedTime: 65.0 seconds RetCode: 0 Status: OK