Package: ChIPComp Version: 1.36.0 Command: /home/biocbuild/R/R/bin/R CMD INSTALL ChIPComp StartedAt: 2025-01-27 21:24:02 -0000 (Mon, 27 Jan 2025) EndedAt: 2025-01-27 21:24:41 -0000 (Mon, 27 Jan 2025) EllapsedTime: 38.9 seconds RetCode: 0 Status: OK