Package: ChIPComp Version: 1.36.0 Command: /home/biocbuild/bbs-3.20-bioc/R/bin/R CMD check --install=check:ChIPComp.install-out.txt --library=/home/biocbuild/bbs-3.20-bioc/R/site-library --timings ChIPComp_1.36.0.tar.gz StartedAt: 2025-01-27 21:39:25 -0500 (Mon, 27 Jan 2025) EndedAt: 2025-01-27 21:43:45 -0500 (Mon, 27 Jan 2025) EllapsedTime: 260.3 seconds RetCode: 0 Status: OK CheckDir: ChIPComp.Rcheck Warnings: 0