Package: ChIPComp Version: 1.36.0 Command: /Library/Frameworks/R.framework/Resources/bin/R CMD build --keep-empty-dirs --no-resave-data ChIPComp StartedAt: 2025-01-27 20:32:57 -0500 (Mon, 27 Jan 2025) EndedAt: 2025-01-27 20:34:10 -0500 (Mon, 27 Jan 2025) EllapsedTime: 72.4 seconds RetCode: 0 Status: OK PackageFile: ChIPComp_1.36.0.tar.gz PackageFileSize: 595.7 KiB