Package: ChAMP Version: 2.36.0 Command: /home/biocbuild/R/R/bin/R CMD INSTALL ChAMP StartedAt: 2025-02-03 21:30:21 -0000 (Mon, 03 Feb 2025) EndedAt: 2025-02-03 21:31:38 -0000 (Mon, 03 Feb 2025) EllapsedTime: 77.3 seconds RetCode: 0 Status: OK