Package: ChAMP Version: 2.36.0 Command: /home/biocbuild/R/R/bin/R CMD build --keep-empty-dirs --no-resave-data ChAMP StartedAt: 2025-02-03 22:32:42 -0000 (Mon, 03 Feb 2025) EndedAt: 2025-02-03 22:35:07 -0000 (Mon, 03 Feb 2025) EllapsedTime: 145.1 seconds RetCode: 0 Status: OK PackageFile: ChAMP_2.36.0.tar.gz PackageFileSize: 7.904 MiB