Package: ChAMP Version: 2.36.0 Command: F:\biocbuild\bbs-3.20-bioc\R\bin\R.exe CMD check --no-multiarch --install=check:ChAMP.install-out.txt --library=F:\biocbuild\bbs-3.20-bioc\R\library --no-vignettes --timings ChAMP_2.36.0.tar.gz StartedAt: 2025-01-27 23:56:52 -0500 (Mon, 27 Jan 2025) EndedAt: 2025-01-28 00:06:25 -0500 (Tue, 28 Jan 2025) EllapsedTime: 573.3 seconds RetCode: 0 Status: WARNINGS CheckDir: ChAMP.Rcheck Warnings: 2