Package: ChAMP Version: 2.36.0 Command: /home/biocbuild/bbs-3.20-bioc/R/bin/R CMD INSTALL ChAMP StartedAt: 2025-03-31 16:06:20 -0400 (Mon, 31 Mar 2025) EndedAt: 2025-03-31 16:07:19 -0400 (Mon, 31 Mar 2025) EllapsedTime: 59.4 seconds RetCode: 0 Status: OK