Package: ChAMP Version: 2.36.0 Command: /home/biocbuild/bbs-3.20-bioc/R/bin/R CMD build --keep-empty-dirs --no-resave-data --md5 ChAMP StartedAt: 2025-03-31 16:37:48 -0400 (Mon, 31 Mar 2025) EndedAt: 2025-03-31 16:39:46 -0400 (Mon, 31 Mar 2025) EllapsedTime: 117.1 seconds RetCode: 0 Status: OK PackageFile: ChAMP_2.36.0.tar.gz PackageFileSize: 7.953 MiB