Package: CexoR Version: 1.44.0 Command: rm -rf CexoR.buildbin-libdir && mkdir CexoR.buildbin-libdir && /Users/biocbuild/BBS/utils/build-universal.sh CexoR_1.44.0.tar.gz /Library/Frameworks/R.framework/Resources/bin/R CexoR.buildbin-libdir StartedAt: 2025-01-29 13:58:35 -0500 (Wed, 29 Jan 2025) EndedAt: 2025-01-29 13:59:20 -0500 (Wed, 29 Jan 2025) EllapsedTime: 45.0 seconds RetCode: 0 Status: OK PackageFile: CexoR_1.44.0.tgz PackageFileSize: 1.694 MiB