Package: Cepo Version: 1.12.0 Command: /Library/Frameworks/R.framework/Resources/bin/R CMD INSTALL Cepo StartedAt: 2025-01-27 15:49:17 -0500 (Mon, 27 Jan 2025) EndedAt: 2025-01-27 15:49:59 -0500 (Mon, 27 Jan 2025) EllapsedTime: 41.6 seconds RetCode: 0 Status: OK