Package: Cepo Version: 1.12.0 Command: /Library/Frameworks/R.framework/Resources/bin/R CMD build --keep-empty-dirs --no-resave-data Cepo StartedAt: 2025-01-27 20:24:57 -0500 (Mon, 27 Jan 2025) EndedAt: 2025-01-27 20:27:07 -0500 (Mon, 27 Jan 2025) EllapsedTime: 130.4 seconds RetCode: 0 Status: OK PackageFile: Cepo_1.12.0.tar.gz PackageFileSize: 3.925 MiB