Package: Cepo Version: 1.12.0 Command: rm -rf Cepo.buildbin-libdir && mkdir Cepo.buildbin-libdir && /Users/biocbuild/BBS/utils/build-universal.sh Cepo_1.12.0.tar.gz /Library/Frameworks/R.framework/Resources/bin/R Cepo.buildbin-libdir StartedAt: 2025-01-29 13:58:15 -0500 (Wed, 29 Jan 2025) EndedAt: 2025-01-29 13:59:00 -0500 (Wed, 29 Jan 2025) EllapsedTime: 45.1 seconds RetCode: 0 Status: OK PackageFile: Cepo_1.12.0.tgz PackageFileSize: 3.961 MiB